BEGIN:VCALENDAR
VERSION:2.0
PRODID:-//Scream Queens - ECPv6.15.17.1//NONSGML v1.0//EN
CALSCALE:GREGORIAN
METHOD:PUBLISH
X-ORIGINAL-URL:https://wescreamforscreamqueens.com
X-WR-CALDESC:Events for Scream Queens
REFRESH-INTERVAL;VALUE=DURATION:PT1H
X-Robots-Tag:noindex
X-PUBLISHED-TTL:PT1H
BEGIN:VTIMEZONE
TZID:America/Chicago
BEGIN:DAYLIGHT
TZOFFSETFROM:-0600
TZOFFSETTO:-0500
TZNAME:CDT
DTSTART:20250309T080000
END:DAYLIGHT
BEGIN:STANDARD
TZOFFSETFROM:-0500
TZOFFSETTO:-0600
TZNAME:CST
DTSTART:20251102T070000
END:STANDARD
BEGIN:DAYLIGHT
TZOFFSETFROM:-0600
TZOFFSETTO:-0500
TZNAME:CDT
DTSTART:20260308T080000
END:DAYLIGHT
BEGIN:STANDARD
TZOFFSETFROM:-0500
TZOFFSETTO:-0600
TZNAME:CST
DTSTART:20261101T070000
END:STANDARD
BEGIN:DAYLIGHT
TZOFFSETFROM:-0600
TZOFFSETTO:-0500
TZNAME:CDT
DTSTART:20270314T080000
END:DAYLIGHT
BEGIN:STANDARD
TZOFFSETFROM:-0500
TZOFFSETTO:-0600
TZNAME:CST
DTSTART:20271107T070000
END:STANDARD
END:VTIMEZONE
BEGIN:VEVENT
DTSTART;TZID=America/Chicago:20260214T100000
DTEND;TZID=America/Chicago:20260214T140000
DTSTAMP:20260419T171825
CREATED:20260125T185643Z
LAST-MODIFIED:20260125T185643Z
UID:608-1771063200-1771077600@wescreamforscreamqueens.com
SUMMARY:Vegan Ice Cream Sandwich Pop Up
DESCRIPTION:Another s’cream sandwich collab! Scream Queens is teaming up with Nom Nom It’s Vegan for a collab made in heaven. Vegan cookies + vegan ice cream = 🤯. We’re bringing back an elevated classic: browned butter chocolate chunk cookie with sweet cream s’cream\, along with a ✨limited edition flavor✨ chocolate covered strawberry: strawberry s’cream sandwiched between brownie cookies and dare we say half dipped in shell and sprinkled with freeze-dried strawberries?? Maybe! \nGrab a pal and swing by the Galentine’s Mercadito for this limited run!
URL:https://wescreamforscreamqueens.com/event/vegan-ice-cream-sandwich-pop-up/
LOCATION:Latinx Education Collaborative\, 2301 Lexington Ave\, Kansas City\, MO\, 64124\, United States
END:VEVENT
BEGIN:VEVENT
DTSTART;TZID=America/Chicago:20260214T140000
DTEND;TZID=America/Chicago:20260214T160000
DTSTAMP:20260419T171825
CREATED:20260211T160329Z
LAST-MODIFIED:20260211T160329Z
UID:613-1771077600-1771084800@wescreamforscreamqueens.com
SUMMARY:Affogato AIRR Fundraiser
DESCRIPTION:Hot\, freshly pulled espresso shot poured over a scoop of the creamiest vegan vanilla s’cream\, and the proceeds go to the AIRR legal defense fund? Kind of sounding like the perfect Valentine’s Day afternoon outing to us. \nSo grab a friend / spouse / crush / ex / coworker / cousin or just your beautiful self and come by Good Karma Coffee Co to help us help AIRR hit their fundraising goals!
URL:https://wescreamforscreamqueens.com/event/affogato-airr-fundraiser/
LOCATION:Good Karma Coffee Co\, 3134 Gillham Rd\, Kansas City\, MO\, United States
END:VEVENT
BEGIN:VEVENT
DTSTART;TZID=America/Chicago:20260307T170000
DTEND;TZID=America/Chicago:20260307T210000
DTSTAMP:20260419T171825
CREATED:20260106T190420Z
LAST-MODIFIED:20260106T190840Z
UID:216-1772902800-1772917200@wescreamforscreamqueens.com
SUMMARY:KCRW Roller Derby Double Header: Girl Scout Night!
DESCRIPTION:
URL:https://wescreamforscreamqueens.com/event/kcrw-roller-derby-double-header-girl-scout-night/
LOCATION:KS
END:VEVENT
BEGIN:VEVENT
DTSTART;TZID=America/Chicago:20260502T100000
DTEND;TZID=America/Chicago:20260502T130000
DTSTAMP:20260419T171825
CREATED:20260119T205001Z
LAST-MODIFIED:20260119T210214Z
UID:602-1777716000-1777726800@wescreamforscreamqueens.com
SUMMARY:KC Feastival
DESCRIPTION:Raise your forks and pop those corks because Feastival Brunch is back! For one delicious day only\, KC’s favorite brunch spots come together serving up bites\, bubbles\, and all-around good vibes. Grab your brunch crew and indulge under the clock all while helping us nourish families across our community. \nCome hungry\, leave happy\, and help Harvesters defeat the biggest beast of all: hunger in our community. \nAt Feastival\, every delicious bite fuels the fight against hunger. Each year\, Feastival events generate enough funds to provide more than 1 million meals\, and this year\, every bite you take pushes that impact even further.
URL:https://wescreamforscreamqueens.com/event/kc-feastival/
LOCATION:Union Station\, 30 W Pershing Rd\, Kansas City\, MO\, 64108\, United States
END:VEVENT
BEGIN:VEVENT
DTSTART;TZID=America/Chicago:20260502T170000
DTEND;TZID=America/Chicago:20260502T210000
DTSTAMP:20260419T171825
CREATED:20260107T150803Z
LAST-MODIFIED:20260107T150803Z
UID:356-1777741200-1777755600@wescreamforscreamqueens.com
SUMMARY:KCRW Double Header
DESCRIPTION:
URL:https://wescreamforscreamqueens.com/event/kcrw-double-header-2/
LOCATION:KS
END:VEVENT
BEGIN:VEVENT
DTSTART;TZID=America/Chicago:20260606T073000
DTEND;TZID=America/Chicago:20260606T130000
DTSTAMP:20260419T171825
CREATED:20260317T010513Z
LAST-MODIFIED:20260317T010513Z
UID:621-1780731000-1780750800@wescreamforscreamqueens.com
SUMMARY:Overland Park Farmers' Market
DESCRIPTION:
URL:https://wescreamforscreamqueens.com/event/overland-park-farmers-market/
LOCATION:Overland Park Farmers’ Market\, 8101 Marty Street\, Overland Park\, KS\, 66204\, United States
END:VEVENT
BEGIN:VEVENT
DTSTART;TZID=America/Chicago:20260613T073000
DTEND;TZID=America/Chicago:20260613T130000
DTSTAMP:20260419T171825
CREATED:20260317T010643Z
LAST-MODIFIED:20260317T010643Z
UID:625-1781335800-1781355600@wescreamforscreamqueens.com
SUMMARY:Overland Park Farmers' Market
DESCRIPTION:
URL:https://wescreamforscreamqueens.com/event/overland-park-farmers-market-2/
LOCATION:Overland Park Farmers’ Market\, 8101 Marty Street\, Overland Park\, KS\, 66204\, United States
END:VEVENT
BEGIN:VEVENT
DTSTART;TZID=America/Chicago:20260620T073000
DTEND;TZID=America/Chicago:20260620T130000
DTSTAMP:20260419T171825
CREATED:20260317T010722Z
LAST-MODIFIED:20260317T010722Z
UID:627-1781940600-1781960400@wescreamforscreamqueens.com
SUMMARY:Overland Park Farmers' Market
DESCRIPTION:
URL:https://wescreamforscreamqueens.com/event/overland-park-farmers-market-3/
LOCATION:Overland Park Farmers’ Market\, 8101 Marty Street\, Overland Park\, KS\, 66204\, United States
END:VEVENT
BEGIN:VEVENT
DTSTART;TZID=America/Chicago:20260627T073000
DTEND;TZID=America/Chicago:20260627T130000
DTSTAMP:20260419T171825
CREATED:20260317T010803Z
LAST-MODIFIED:20260317T010803Z
UID:629-1782545400-1782565200@wescreamforscreamqueens.com
SUMMARY:Overland Park Farmers' Market
DESCRIPTION:
URL:https://wescreamforscreamqueens.com/event/overland-park-farmers-market-4/
LOCATION:Overland Park Farmers’ Market\, 8101 Marty Street\, Overland Park\, KS\, 66204\, United States
END:VEVENT
BEGIN:VEVENT
DTSTART;TZID=America/Chicago:20260701T073000
DTEND;TZID=America/Chicago:20260701T130000
DTSTAMP:20260419T171825
CREATED:20260317T012350Z
LAST-MODIFIED:20260317T012350Z
UID:645-1782891000-1782910800@wescreamforscreamqueens.com
SUMMARY:Overland Park Farmers' Market
DESCRIPTION:
URL:https://wescreamforscreamqueens.com/event/overland-park-farmers-market-12/
LOCATION:Overland Park Farmers’ Market\, 8101 Marty Street\, Overland Park\, KS\, 66204\, United States
END:VEVENT
BEGIN:VEVENT
DTSTART;TZID=America/Chicago:20260704T073000
DTEND;TZID=America/Chicago:20260704T130000
DTSTAMP:20260419T171825
CREATED:20260317T010910Z
LAST-MODIFIED:20260317T010910Z
UID:631-1783150200-1783170000@wescreamforscreamqueens.com
SUMMARY:Overland Park Farmers' Market
DESCRIPTION:
URL:https://wescreamforscreamqueens.com/event/overland-park-farmers-market-5/
LOCATION:Overland Park Farmers’ Market\, 8101 Marty Street\, Overland Park\, KS\, 66204\, United States
END:VEVENT
BEGIN:VEVENT
DTSTART;TZID=America/Chicago:20260711T073000
DTEND;TZID=America/Chicago:20260711T130000
DTSTAMP:20260419T171825
CREATED:20260317T011158Z
LAST-MODIFIED:20260317T011158Z
UID:633-1783755000-1783774800@wescreamforscreamqueens.com
SUMMARY:Overland Park Farmers' Market
DESCRIPTION:
URL:https://wescreamforscreamqueens.com/event/overland-park-farmers-market-6/
LOCATION:Overland Park Farmers’ Market\, 8101 Marty Street\, Overland Park\, KS\, 66204\, United States
END:VEVENT
BEGIN:VEVENT
DTSTART;TZID=America/Chicago:20260722T080000
DTEND;TZID=America/Chicago:20260722T170000
DTSTAMP:20260419T171825
CREATED:20260317T012426Z
LAST-MODIFIED:20260317T012426Z
UID:647-1784707200-1784739600@wescreamforscreamqueens.com
SUMMARY:Overland Park Farmers' Market
DESCRIPTION:
URL:https://wescreamforscreamqueens.com/event/overland-park-farmers-market-13/
LOCATION:Overland Park Farmers’ Market\, 8101 Marty Street\, Overland Park\, KS\, 66204\, United States
END:VEVENT
BEGIN:VEVENT
DTSTART;TZID=America/Chicago:20260808T073000
DTEND;TZID=America/Chicago:20260808T130000
DTSTAMP:20260419T171825
CREATED:20260317T011452Z
LAST-MODIFIED:20260317T011452Z
UID:635-1786174200-1786194000@wescreamforscreamqueens.com
SUMMARY:Overland Park Farmers' Market
DESCRIPTION:
URL:https://wescreamforscreamqueens.com/event/overland-park-farmers-market-7/
LOCATION:Overland Park Farmers’ Market\, 8101 Marty Street\, Overland Park\, KS\, 66204\, United States
END:VEVENT
BEGIN:VEVENT
DTSTART;TZID=America/Chicago:20260815T073000
DTEND;TZID=America/Chicago:20260815T130000
DTSTAMP:20260419T171825
CREATED:20260317T012018Z
LAST-MODIFIED:20260317T012018Z
UID:637-1786779000-1786798800@wescreamforscreamqueens.com
SUMMARY:Overland Park Farmers' Market
DESCRIPTION:
URL:https://wescreamforscreamqueens.com/event/overland-park-farmers-market-8/
LOCATION:Overland Park Farmers’ Market\, 8101 Marty Street\, Overland Park\, KS\, 66204\, United States
END:VEVENT
BEGIN:VEVENT
DTSTART;TZID=America/Chicago:20260822T073000
DTEND;TZID=America/Chicago:20260822T130000
DTSTAMP:20260419T171825
CREATED:20260317T012102Z
LAST-MODIFIED:20260317T012102Z
UID:639-1787383800-1787403600@wescreamforscreamqueens.com
SUMMARY:Overland Park Farmers' Market
DESCRIPTION:
URL:https://wescreamforscreamqueens.com/event/overland-park-farmers-market-9/
LOCATION:Overland Park Farmers’ Market\, 8101 Marty Street\, Overland Park\, KS\, 66204\, United States
END:VEVENT
BEGIN:VEVENT
DTSTART;TZID=America/Chicago:20260829T073000
DTEND;TZID=America/Chicago:20260829T130000
DTSTAMP:20260419T171825
CREATED:20260317T012140Z
LAST-MODIFIED:20260317T012140Z
UID:641-1787988600-1788008400@wescreamforscreamqueens.com
SUMMARY:Overland Park Farmers' Market
DESCRIPTION:
URL:https://wescreamforscreamqueens.com/event/overland-park-farmers-market-10/
LOCATION:Overland Park Farmers’ Market\, 8101 Marty Street\, Overland Park\, KS\, 66204\, United States
END:VEVENT
BEGIN:VEVENT
DTSTART;TZID=America/Chicago:20260902T073000
DTEND;TZID=America/Chicago:20260902T130000
DTSTAMP:20260419T171825
CREATED:20260317T012532Z
LAST-MODIFIED:20260317T012532Z
UID:649-1788334200-1788354000@wescreamforscreamqueens.com
SUMMARY:Overland Park Farmers' Market
DESCRIPTION:
URL:https://wescreamforscreamqueens.com/event/overland-park-farmers-market-14/
LOCATION:Overland Park Farmers’ Market\, 8101 Marty Street\, Overland Park\, KS\, 66204\, United States
END:VEVENT
BEGIN:VEVENT
DTSTART;TZID=America/Chicago:20260905T073000
DTEND;TZID=America/Chicago:20260905T130000
DTSTAMP:20260419T171825
CREATED:20260317T012214Z
LAST-MODIFIED:20260317T012214Z
UID:643-1788593400-1788613200@wescreamforscreamqueens.com
SUMMARY:Overland Park Farmers' Market
DESCRIPTION:
URL:https://wescreamforscreamqueens.com/event/overland-park-farmers-market-11/
LOCATION:Overland Park Farmers’ Market\, 8101 Marty Street\, Overland Park\, KS\, 66204\, United States
END:VEVENT
END:VCALENDAR